BEGIN:VCALENDAR
VERSION:2.0
PRODID:-//The Anatolia Gazette - ECPv4.9.5//NONSGML v1.0//EN
CALSCALE:GREGORIAN
METHOD:PUBLISH
X-WR-CALNAME:The Anatolia Gazette
X-ORIGINAL-URL:http://www.theanatoliagazette.com
X-WR-CALDESC:Events for The Anatolia Gazette
BEGIN:VTIMEZONE
TZID:"Europe/Moscow"
BEGIN:STANDARD
TZOFFSETFROM:+0300
TZOFFSETTO:+0300
TZNAME:MSK
DTSTART:20170101T000000
END:STANDARD
END:VTIMEZONE
BEGIN:VEVENT
DTSTART;VALUE=DATE:20170507
DTEND;VALUE=DATE:20170508
DTSTAMP:20260420T021246
CREATED:20170125T093019Z
LAST-MODIFIED:20170125T093019Z
UID:1234-1494115200-1494201599@www.theanatoliagazette.com
SUMMARY:3 γενιές Anatolians;
DESCRIPTION:\nΑν η οικογένειά σας μετρά τρεις γενιές αποφοίτων του Κολλεγίου Ανατόλια\, σας περιμένουμε σε ειδική τιμητική εκδήλωση που οργανώνουμε την Κυριακή 7 Μαΐου 2017 ως συμβολική ανταπόδοση της αγάπης και της εμπιστοσύνης σας προς το σχολείο. \nΟ Πρόεδρος του Κολλεγίου Ανατόλια Δρ Πάνος Βλάχος και ο Πρόεδρος του Συλλόγου Αποφοίτων Ντίνος Χατζηιωάννου προσκαλούν εσάς και τα μέλη των οικογενειών σας για ένα εορταστικό barbeque στους χώρους του Κολλεγίου. Κατά τη διάρκεια της εκδήλωσης θα ξεναγηθείτε στο campus του σχολείου\, θα έχετε την ευκαιρία να μιλήσετε με άλλους απόφοιτους που έχουν παρόμοια ιστορία\, και θα φωτογραφηθείτε με την οικογένεια σας στο photobooth που θα στηθεί ειδικά για την περίσταση. \nΕπιπρόσθετα\, και με σκοπό τη δημιουργία αρχειακού υλικού για τις 3 γενιές\,  η απόφοιτος μας Χρύσα Νικολέρη έχει προσφερθεί να φωτογραφίσει στο στούντιό της αφιλοκερδώς κάθε οικογένεια αποφοίτων για το αρχείο του σχολείου.  Εάν το επιθυμείτε\, από τώρα έως και τέλη Απριλίου μπορείτε να επικοινωνήσετε απευθείας με την κ. Νικολέρη στο 2310240210 για το συντονισμό της φωτογράφισης.  Στην εκδήλωση θα λάβετε τιμητικά και μια φωτογραφία από τη συγκεκριμένη φωτογράφιση. \nΗ πρόσκληση ισχύει και στην περίπτωση που τα νεότερα μέλη της οικογένειας φοιτούν ακόμη στο Κολλέγιο Ανατόλια. \n\nΣας περιμένουμε για μία ημέρα με συγκίνηση\, πολλές αναμνήσεις και εμπειρίες τριών γενεών! \nΓια περισσότερες πληροφορίες μπορείτε να επικοινωνήσετε με το γραφείο Δημόσιων Σχέσεων & Επικοινωνίας\, στα 2310398260 & pr@anatolia.edu.gr \nΣυμπληρώστε την φόρμα με τα στοιχεία σας εδώ \n
URL:http://www.theanatoliagazette.com/event/3-generations-anatolians/
LOCATION:Anatolia College
ATTACH;FMTTYPE=image/jpeg:http://www.theanatoliagazette.com/wp-content/uploads/2017/01/3-genies-anatolia-banner-gazette.jpg
ORGANIZER;CN="Anatolia%20College":MAILTO:pr@anatolia.edu.gr
END:VEVENT
END:VCALENDAR