BEGIN:VCALENDAR
VERSION:2.0
PRODID:-//The Anatolia Gazette - ECPv4.9.5//NONSGML v1.0//EN
CALSCALE:GREGORIAN
METHOD:PUBLISH
X-WR-CALNAME:The Anatolia Gazette
X-ORIGINAL-URL:http://www.theanatoliagazette.com
X-WR-CALDESC:Events for The Anatolia Gazette
BEGIN:VTIMEZONE
TZID:"Europe/Moscow"
BEGIN:STANDARD
TZOFFSETFROM:+0300
TZOFFSETTO:+0300
TZNAME:MSK
DTSTART:20170101T000000
END:STANDARD
END:VTIMEZONE
BEGIN:VEVENT
DTSTART;TZID="Europe/Moscow":20170328T190000
DTEND;TZID="Europe/Moscow":20170328T203000
DTSTAMP:20260420T070556
CREATED:20170328T082237Z
LAST-MODIFIED:20170328T083116Z
UID:1461-1490727600-1490733000@www.theanatoliagazette.com
SUMMARY:A Dukakis Event in Panorama | Special guest John Koenig
DESCRIPTION:The Dukakis Center at ACT\ncordially invites you to a\nReceptionNelson\, Panorama\nTuesday\, March 28\, 7 PM\nFree entrySpecial guest \nJohn Koenig\, Former US Ambassador to Cyprus \n\nJohn M. Koenig retired from the U.S. Foreign Service as Ambassador to Cyprus in 2015\, having earlier held senior diplomatic positions in Germany and with NATO.  He served as American Consul General in Thessaloniki from 2000 to 2003\, and as Deputy Political Counselor at the Embassy in Athens from 1997 to 2000.\nAmbassador Koenig is a member of the Honorary Board of Advisors at the Dukakis Center.\n
URL:http://www.theanatoliagazette.com/event/a-dukakis-event-in-panorama-special-guest-john-koenig/
LOCATION:Nelson\, Panorama
ATTACH;FMTTYPE=image/jpeg:http://www.theanatoliagazette.com/wp-content/uploads/2017/03/dukakis_header_2017.jpg
END:VEVENT
END:VCALENDAR