BEGIN:VCALENDAR
VERSION:2.0
PRODID:-//The Anatolia Gazette - ECPv4.9.5//NONSGML v1.0//EN
CALSCALE:GREGORIAN
METHOD:PUBLISH
X-WR-CALNAME:The Anatolia Gazette
X-ORIGINAL-URL:http://www.theanatoliagazette.com
X-WR-CALDESC:Events for The Anatolia Gazette
BEGIN:VTIMEZONE
TZID:"Europe/Moscow"
BEGIN:STANDARD
TZOFFSETFROM:+0300
TZOFFSETTO:+0300
TZNAME:MSK
DTSTART:20170101T000000
END:STANDARD
END:VTIMEZONE
BEGIN:VEVENT
DTSTART;TZID="Europe/Moscow":20170329T190000
DTEND;TZID="Europe/Moscow":20170329T203000
DTSTAMP:20260420T070342
CREATED:20170328T082432Z
LAST-MODIFIED:20170328T083046Z
UID:1465-1490814000-1490819400@www.theanatoliagazette.com
SUMMARY:A Dukakis Lecture in collaboration with the Navarino Network
DESCRIPTION:\nThe Michael and Kitty Dukakis Center for Public and Humanitarian Service \nin collaboration with the Navarino Network \nwarmly invites you to attend \na Dukakis Lecture \nJohn M. Koenig \nFormer US Ambassador to Cyprus \n“The Cyprus End-Game – Unification or Permanent Partition?” \nWednesday\, March 29\, 7 PM\nDaios Hotel \n\nJohn M. Koenig retired from the U.S. Foreign Service as Ambassador to Cyprus in 2015\, having earlier held senior diplomatic positions in Germany and with NATO.  He served as American Consul General in Thessaloniki from 2000 to 2003\, and as Deputy Political Counselor at the Embassy in Athens from 1997 to 2000.\n\nRSVP dukakis-center@act.eduThe lecture will be in English \n\n\n  \n
URL:http://www.theanatoliagazette.com/event/a-dukakis-lecture-in-collaboration-with-the-navarino-network/
LOCATION:Daios Hotel
ATTACH;FMTTYPE=image/jpeg:http://www.theanatoliagazette.com/wp-content/uploads/2017/03/dukakis_header_2017.jpg
END:VEVENT
END:VCALENDAR