BEGIN:VCALENDAR
VERSION:2.0
PRODID:-//The Anatolia Gazette - ECPv4.9.5//NONSGML v1.0//EN
CALSCALE:GREGORIAN
METHOD:PUBLISH
X-WR-CALNAME:The Anatolia Gazette
X-ORIGINAL-URL:http://www.theanatoliagazette.com
X-WR-CALDESC:Events for The Anatolia Gazette
BEGIN:VTIMEZONE
TZID:"Europe/Moscow"
BEGIN:STANDARD
TZOFFSETFROM:+0300
TZOFFSETTO:+0300
TZNAME:MSK
DTSTART:20160101T000000
END:STANDARD
END:VTIMEZONE
BEGIN:VEVENT
DTSTART;TZID="Europe/Moscow":20161119T110000
DTEND;TZID="Europe/Moscow":20161119T150000
DTSTAMP:20260420T100058
CREATED:20161017T122407Z
LAST-MODIFIED:20161110T112613Z
UID:887-1479553200-1479567600@www.theanatoliagazette.com
SUMMARY:Το Δημοτικό Σχολείο Ανατόλια στο Open House Thessaloniki 2016
DESCRIPTION:Για τρίτη συνεχή χρονιά το Κολλέγιο Ανατόλια συμμετέχει στο Open House Thessaloniki\, τον σημαντικό  θεσμό για την προβολή της αρχιτεκτονικής της πόλης με  δωρεάν ξεναγήσεις σε δημόσιους και ιδιωτικούς χώρους που διακρίνονται από ξεχωριστό αρχιτεκτονικό και ιστορικό ενδιαφέρον. \nΣτη φετινή\, πέμπτη κατά σειρά\, διοργάνωση παρουσιάζεται ένα σημαντικό κτίριο του μη κερδοσκοπικού εκπαιδευτικού οργανισμού\, το Νηπιαγωγείο του Κολλεγίου Ανατόλια. Το κτίριο του Νηπιαγωγείου ανοίγει τις πόρτες του για το κοινό το Σάββατο 19 Νοεμβρίου 2016 από τις 11 το πρωί μέχρι τις 3 το μεσημέρι. \nΤο Νηπιαγωγείο του Κολλεγίου Ανατόλια αποτελεί ένα πρότυπο παιδαγωγικό και αρχιτεκτονικό εγχείρημα τόσο ως εκπαιδευτικός χώρος\, όσο και ως μέσο εκπαίδευσης\, το οποίο αναδεικνύει τα θεμελιώδη νοήματα του σεβασμού της παράδοσης\, της διαχρονικότητας και της πρωτοπορίας. Το κτίριο είναι μία σύνθεση του ιστορικού κτιρίου Willard\, που κατασκευάστηκε το 1947\, και των νέων υποδομών Willard Annex που ολοκληρώθηκαν το 2014. Το Willard House αρχικά είχε χρησιμοποιηθεί ως κατοικία διδασκόντων και προσωπικού. Το 1958\, το κτίριο αφιερώθηκε στη μνήμη της  Charlotte Willard\, διευθύντριας του Σχολείου Θηλέων στη Μερζιφούντα του Πόντου (όπου το Κολλέγιο Ανατόλια ξεκίνησε να λειτουργεί το 1886) και η οποία έχει μείνει στην ιστορία για τη διάσωση Αρμενίων στη Μικρά Ασία\, το 1915. Το 2005\, οι χώροι του ιστορικού διώροφου ανακαινίστηκαν για τη στέγαση και ανάπτυξη του Νηπιαγωγείου μέσα στο καταπράσινο campus. Το 2014 το κτίριο Willard επεκτάθηκε με την προσθήκη της νέας  ισόγεια πτέρυγας – Willard Annex – που περιλαμβάνει νέες αίθουσες διδασκαλίας με όλες τις απαραίτητες υποστηρικτικές λειτουργίες. \n \n
URL:http://www.theanatoliagazette.com/event/ac_openhousethessaloniki2016/
LOCATION:Νηπιαγωγείο Ανατόλια
ATTACH;FMTTYPE=image/jpeg:http://www.theanatoliagazette.com/wp-content/uploads/2016/11/2016-anatolia-out-800x537.jpg
END:VEVENT
END:VCALENDAR