BEGIN:VCALENDAR
VERSION:2.0
PRODID:-//The Anatolia Gazette - ECPv4.9.5//NONSGML v1.0//EN
CALSCALE:GREGORIAN
METHOD:PUBLISH
X-WR-CALNAME:The Anatolia Gazette
X-ORIGINAL-URL:http://www.theanatoliagazette.com
X-WR-CALDESC:Events for The Anatolia Gazette
BEGIN:VTIMEZONE
TZID:"Europe/Moscow"
BEGIN:STANDARD
TZOFFSETFROM:+0300
TZOFFSETTO:+0300
TZNAME:MSK
DTSTART:20170101T000000
END:STANDARD
END:VTIMEZONE
BEGIN:VEVENT
DTSTART;TZID="Europe/Moscow":20171201T170000
DTEND;TZID="Europe/Moscow":20171201T180000
DTSTAMP:20260421T091757
CREATED:20171122T134522Z
LAST-MODIFIED:20171128T134834Z
UID:2019-1512147600-1512151200@www.theanatoliagazette.com
SUMMARY:ACT Alumni Association - ACT Tree Lighting
DESCRIPTION: \nRSVP here \n
URL:http://www.theanatoliagazette.com/event/act-alumni-association-act-tree-lighting-2017/
LOCATION:ACT\, Vasiliou Sevenidi 17\, Pylea\, 55535\, Greece
CATEGORIES:Christmas,Community
ATTACH;FMTTYPE=image/jpeg:http://www.theanatoliagazette.com/wp-content/uploads/2017/09/ACT-Campus1.jpg
GEO:40.5987088;23.0035932
X-APPLE-STRUCTURED-LOCATION;VALUE=URI;X-ADDRESS=ACT Vasiliou Sevenidi 17 Pylea 55535 Greece;X-APPLE-RADIUS=500;X-TITLE=Vasiliou Sevenidi 17:geo:23.0035932,40.5987088
END:VEVENT
END:VCALENDAR