BEGIN:VCALENDAR
VERSION:2.0
PRODID:-//The Anatolia Gazette - ECPv4.9.5//NONSGML v1.0//EN
CALSCALE:GREGORIAN
METHOD:PUBLISH
X-WR-CALNAME:The Anatolia Gazette
X-ORIGINAL-URL:http://www.theanatoliagazette.com
X-WR-CALDESC:Events for The Anatolia Gazette
BEGIN:VTIMEZONE
TZID:"Europe/Moscow"
BEGIN:STANDARD
TZOFFSETFROM:+0300
TZOFFSETTO:+0300
TZNAME:MSK
DTSTART:20170101T000000
END:STANDARD
END:VTIMEZONE
BEGIN:VEVENT
DTSTART;TZID="Europe/Moscow":20171129T190000
DTEND;TZID="Europe/Moscow":20171129T220000
DTSTAMP:20260420T005013
CREATED:20171121T135553Z
LAST-MODIFIED:20171128T140618Z
UID:2029-1511982000-1511992800@www.theanatoliagazette.com
SUMMARY:Προβολή της ταινίας Ex Machina από το Τμήμα Αγγλικής Φιλολογίας & Νέων Μέσων του ACT
DESCRIPTION:Το Τμήμα Αγγλικής Φιλολογίας και Νέων Μέσων του ACT σας προσκαλεί στην προβολή της ταινίας Ex Machina την Τετάρτη 29 Νοεμβρίου στις 19:00 στο Ύψιλον. Μετά θα κουβεντιάσουμε για την ταινία με τον Vincent Müller\, καθηγητή Φιλοσοφίας\, ACT\, την Υβόν Κοσμά\, επικ. καθηγήτρια Πολιτισμικών Σπουδών\, ACT\, και τον Απόστολο Καρακάση επικ. καθηγητή Μοντάζ\, ΑΠΘ. \n \n  \n
URL:http://www.theanatoliagazette.com/event/act-ex-machina-movie/
CATEGORIES:Arts,Science & Technology
ATTACH;FMTTYPE=image/jpeg:http://www.theanatoliagazette.com/wp-content/uploads/2017/11/exmachina_fb_event.jpg
END:VEVENT
END:VCALENDAR