BEGIN:VCALENDAR
VERSION:2.0
PRODID:-//The Anatolia Gazette - ECPv4.9.5//NONSGML v1.0//EN
CALSCALE:GREGORIAN
METHOD:PUBLISH
X-WR-CALNAME:The Anatolia Gazette
X-ORIGINAL-URL:http://www.theanatoliagazette.com
X-WR-CALDESC:Events for The Anatolia Gazette
BEGIN:VTIMEZONE
TZID:"Europe/Moscow"
BEGIN:STANDARD
TZOFFSETFROM:+0300
TZOFFSETTO:+0300
TZNAME:MSK
DTSTART:20170101T000000
END:STANDARD
END:VTIMEZONE
BEGIN:VEVENT
DTSTART;TZID="Europe/Moscow":20170616T200000
DTEND;TZID="Europe/Moscow":20170616T235900
DTSTAMP:20260420T004132
CREATED:20170518T122341Z
LAST-MODIFIED:20170606T123947Z
UID:1708-1497643200-1497657540@www.theanatoliagazette.com
SUMMARY:ACT Homecoming 2017
DESCRIPTION:ACT Alumni\, it’s time to come back! Join us on campus to enjoy a lovely evening filled with food\, wine\, music and memories. Get to meet the new alumni board members\, mix and mingle with old classmates and other fellow alumni. A celebration you don’t want to miss! #backtoACT \n \nRegister today!\n
URL:http://www.theanatoliagazette.com/event/act-homecoming-2017/
LOCATION:ACT\, Vasiliou Sevenidi 17\, Pylea\, 55535\, Greece
CATEGORIES:Party
ATTACH;FMTTYPE=image/jpeg:http://www.theanatoliagazette.com/wp-content/uploads/2017/06/act_homecoming_facebook_event_cover_2017.jpg
GEO:40.5987088;23.0035932
X-APPLE-STRUCTURED-LOCATION;VALUE=URI;X-ADDRESS=ACT Vasiliou Sevenidi 17 Pylea 55535 Greece;X-APPLE-RADIUS=500;X-TITLE=Vasiliou Sevenidi 17:geo:23.0035932,40.5987088
END:VEVENT
END:VCALENDAR