BEGIN:VCALENDAR
VERSION:2.0
PRODID:-//The Anatolia Gazette - ECPv4.9.5//NONSGML v1.0//EN
CALSCALE:GREGORIAN
METHOD:PUBLISH
X-WR-CALNAME:The Anatolia Gazette
X-ORIGINAL-URL:http://www.theanatoliagazette.com
X-WR-CALDESC:Events for The Anatolia Gazette
BEGIN:VTIMEZONE
TZID:"Europe/Moscow"
BEGIN:STANDARD
TZOFFSETFROM:+0300
TZOFFSETTO:+0300
TZNAME:MSK
DTSTART:20170101T000000
END:STANDARD
END:VTIMEZONE
BEGIN:VEVENT
DTSTART;TZID="Europe/Moscow":20170623T210000
DTEND;TZID="Europe/Moscow":20170623T235900
DTSTAMP:20260420T004916
CREATED:20170519T060119Z
LAST-MODIFIED:20170608T133817Z
UID:1679-1498251600-1498262340@www.theanatoliagazette.com
SUMMARY:Summer Party 2017 Συλλόγου Φίλων Κολλεγίου Ανατόλια με τους Onirama
DESCRIPTION:Ο Σύλλογος Φίλων Κολλεγίου Ανατόλια σας προσκαλεί στο καθιερωμένο Summer Party την Παρασκευή 23 Ιουνίου 2017\nστις 21:00 στο Κυβερνείο (Παλατάκι). Στην εκδήλωση θα συμμετέχουν οι ONIRAMΑ. \nΤα έσοδα θα διατεθούν υπέρ του προγράμματος υποτροφιών του Αμερικανικού Κολλεγίου Ανατόλια.  Τιμή πρόσκλησης 50 ευρώ \nΔιάθεση προσκλήσεων μέχρι την Παρασκευή 16 Ιουνίου 2017:\n– Γραφείο Δημοσίων Σχέσεων & Επικοινωνίας Κολλεγίου Ανατόλια\,\nτ. 2310398220 & e-mail: afac@anatolia.edu.gr (Δ-Π 09:00 – 15:00)\n– Ευαγγελία Καραμπατάκη\, Αριστοτέλους 11\, τ. 2310272925 (Δ-Π 12:00 – 14:00) \nΚρατήσεις θέσεων: Σύλλογος Φίλων Κολλεγίου Ανατόλια\, Γεώργιος Κεσίσογλου\, τ. 6944586150 \nΣτοιχεία λογαριασμού ΣΦΚΑ – Τράπεζα Πειραιώς ΙΒΑΝ: GR4901722380005238003333412 \n \n
URL:http://www.theanatoliagazette.com/event/afac-summer-party-2017-onirama/
LOCATION:Κυβερνείο (Παλατάκι)
CATEGORIES:Party
ATTACH;FMTTYPE=image/jpeg:http://www.theanatoliagazette.com/wp-content/uploads/2017/05/summer_2017_palataki_1160X470.jpg
ORGANIZER;CN="%CE%A3%CF%8D%CE%BB%CE%BB%CE%BF%CE%B3%CE%BF%CF%82%20%CE%A6%CE%AF%CE%BB%CF%89%CE%BD%20%CE%9A%CE%BF%CE%BB%CE%BB%CE%B5%CE%B3%CE%AF%CE%BF%CF%85%20%CE%91%CE%BD%CE%B1%CF%84%CF%8C%CE%BB%CE%B9%CE%B1":MAILTO:afac@anatolia.edu.gr
END:VEVENT
END:VCALENDAR