BEGIN:VCALENDAR
VERSION:2.0
PRODID:-//The Anatolia Gazette - ECPv4.9.5//NONSGML v1.0//EN
CALSCALE:GREGORIAN
METHOD:PUBLISH
X-WR-CALNAME:The Anatolia Gazette
X-ORIGINAL-URL:http://www.theanatoliagazette.com
X-WR-CALDESC:Events for The Anatolia Gazette
BEGIN:VTIMEZONE
TZID:"Europe/Moscow"
BEGIN:STANDARD
TZOFFSETFROM:+0300
TZOFFSETTO:+0300
TZNAME:MSK
DTSTART:20170101T000000
END:STANDARD
END:VTIMEZONE
BEGIN:VEVENT
DTSTART;TZID="Europe/Moscow":20170323T210000
DTEND;TZID="Europe/Moscow":20170324T030000
DTSTAMP:20260420T050725
CREATED:20170223T092906Z
LAST-MODIFIED:20170224T094736Z
UID:1311-1490302800-1490324400@www.theanatoliagazette.com
SUMMARY:Σύλλογος Φίλων Κολλεγίου Ανατόλια // Wine & Dance Party
DESCRIPTION:Ο Σύλλογος Φίλων του Κολλεγίου Ανατόλια σας προσκαλεί στο Wine & Dance Party την Πέμπτη 23 Μαρτίου 2017 από τις 21:00 στο Lavalbone (Ολύμπιον). \nΤα έσοδα θα διατεθούν υπέρ του Anatolia Elementary School. \nΤιμή πρόσκλησης 25€ \nΔιάθεση προσκλήσεων μέχρι την Τρίτη 21 Μαρτίου 2017 από:\n– κ. Γιώργος Κεσίσογλου\, Πρόεδρος ΣΦΚΑ\, τ. 6944586150 & e-mail: kessgr@otenet.gr\n– Γραφείο Δημοσίων Σχέσεων & Επικοινωνίας Κολλεγίου Ανατόλια\, τ. 2310398220 & e-mail: pr@anatolia.edu.gr \nΣτοιχεία Λογαριασμού ΣΦΚΑ / Τράπεζα Πειραιώς – GR4901722380005238003333412\n\nΟ Σύλλογος Φίλων του Κολλεγίου Ανατόλια είναι ένα μη κερδοσκοπικό\, κοινωφελές σωματείο που ιδρύθηκε το 1985. Αποστολή του είναι να εξασφαλίζει δωρεές και χορηγίες για την κάλυψη σημαντικών εκπαιδευτικών αναγκών και υποδομών του Κολλεγίου Ανατόλια και να ενισχύει το Πρόγραμμα Υποτροφιών του μη κερδοσκοπικού εκπαιδευτικού οργανισμού. \nΕυχαριστούμε θερμά όλα τα μέλη και τους φίλους του Συλλόγου για την αμέριστη συμπαράσταση και την συνεχή τους υποστήριξη. \n  \n
URL:http://www.theanatoliagazette.com/event/afac-wine-and-dance-party/
LOCATION:Lavalbone (Ολύμπιον)\, 	 Plateia Aristotelous 10 & Mitropoleos 37\, Thessaloniki\, 54624\, Greece
CATEGORIES:Party
ATTACH;FMTTYPE=image/jpeg:http://www.theanatoliagazette.com/wp-content/uploads/2017/02/afac_dance_lavalbone_fb_post.jpg
ORGANIZER;CN="%CE%A3%CF%8D%CE%BB%CE%BB%CE%BF%CE%B3%CE%BF%CF%82%20%CE%A6%CE%AF%CE%BB%CF%89%CE%BD%20%CE%9A%CE%BF%CE%BB%CE%BB%CE%B5%CE%B3%CE%AF%CE%BF%CF%85%20%CE%91%CE%BD%CE%B1%CF%84%CF%8C%CE%BB%CE%B9%CE%B1":MAILTO:afac@anatolia.edu.gr
GEO:40.6323456;22.9408366
X-APPLE-STRUCTURED-LOCATION;VALUE=URI;X-ADDRESS=Lavalbone (Ολύμπιον) 	 Plateia Aristotelous 10 & Mitropoleos 37 Thessaloniki 54624 Greece;X-APPLE-RADIUS=500;X-TITLE=Plateia Aristotelous 10 & Mitropoleos 37:geo:22.9408366,40.6323456
END:VEVENT
END:VCALENDAR