BEGIN:VCALENDAR
VERSION:2.0
PRODID:-//The Anatolia Gazette - ECPv4.9.5//NONSGML v1.0//EN
CALSCALE:GREGORIAN
METHOD:PUBLISH
X-WR-CALNAME:The Anatolia Gazette
X-ORIGINAL-URL:http://www.theanatoliagazette.com
X-WR-CALDESC:Events for The Anatolia Gazette
BEGIN:VTIMEZONE
TZID:"Europe/Moscow"
BEGIN:STANDARD
TZOFFSETFROM:+0300
TZOFFSETTO:+0300
TZNAME:MSK
DTSTART:20160101T000000
END:STANDARD
END:VTIMEZONE
BEGIN:VEVENT
DTSTART;TZID="Europe/Moscow":20161204T150000
DTEND;TZID="Europe/Moscow":20161204T190000
DTSTAMP:20260420T101423
CREATED:20161101T080006Z
LAST-MODIFIED:20161109T122351Z
UID:671-1480863600-1480878000@www.theanatoliagazette.com
SUMMARY:Anatolia College Christmas Bazaar 2016
DESCRIPTION:Την  Κυριακή 4 Δεκεμβρίου 2016\, πραγματοποιείται στις εγκαταστάσεις του Κολλεγίου Ανατόλια το Anatolia College Christmas Bazaar 2016. Από τις 3 το μεσημέρι έως τις 7 το βράδυ οι μαθητές\, το προσωπικό και οι απόφοιτοι θα υποδέχονται τους επισκέπτες σε μία από τις πιο ιστορικές και  ατμοσφαιρικές χριστουγεννιάτικες γιορτές του σχολείου και της πόλης. Το Bazaar θα φιλοξενηθεί στους χώρους του Macedonia Hall (στην πλευρά των Λυκείων) και το παραδοσιακό χριστουγεννιάτικο τσάι θα σερβιριστεί στο Ingle Hall (στην πλευρά των Γυμνασίων). \nΤο Χριστουγεννιάτικο Bazaar ξεκίνησε τη δεκαετία του ’30\, για να υποστηρίξει τους προσφυγικούς πληθυσμούς που είχαν μετακινηθεί στη Θεσσαλονίκη μετά τη Μικρασιατική Καταστροφή\, και με το πέρασμα του χρόνου αναδείχθηκε σε μία από τις πιο επιτυχημένες χριστουγεννιάτικες εκδηλώσεις της  πόλης. \nΗ διοργάνωση πραγματοποιείται με την εθελοντική συμμετοχή μαθητών και εργαζομένων και των τριών εκπαιδευτικών βαθμίδων του Κολλεγίου Ανατόλια (Anatolia Elementary School\, Ενιαίο Γυμνάσιο και Λύκειο & International Baccalaureate Diploma Program\, ACT – American College of Thessaloniki)\, του Συλλόγου Αποφοίτων του Κολλεγίου Ανατόλια και του Συλλόγου Φίλων του Κολλεγίου Ανατόλια. Τα έσοδα της διοργάνωσης θα διατεθούν μέσω του μη κερδοσκοπικού σωματείου Δεσμός – Desmos σε φιλανθρωπικά ιδρύματα και σωματεία κοινωνικής μέριμνας για να καλυφθούν διαπιστωμένες ανάγκες τους. \nΗ παρουσία των μαθητών του σχολείου θα είναι αυξημένη με προϊόντα που οι ίδιοι κατασκεύασαν και παρασκεύασαν\, όπως φυσικά καλλυντικά\, χρηστικά και διακοσμητικά είδη από παλιά αντικείμενα\, στολίδια και γλυκά. Παράλληλα τα παιδιά θα παρουσιάζουν πρωτότυπα projects μέσα από τη συμμετοχή τους σε club του σχολείου. \nΒρείτε εδώ το event στο facebook \n \n
URL:http://www.theanatoliagazette.com/event/anatolia-college-christmas-bazaar-2016/
LOCATION:Macedonia Hall\, 60 John Kennedy Avenue\, Pilea\, Thessaloniki\, 555 35\, Greece
ATTACH;FMTTYPE=image/jpeg:http://www.theanatoliagazette.com/wp-content/uploads/2016/11/site_banner_bazaar_2016.jpg
END:VEVENT
END:VCALENDAR