BEGIN:VCALENDAR
VERSION:2.0
PRODID:-//The Anatolia Gazette - ECPv4.9.5//NONSGML v1.0//EN
CALSCALE:GREGORIAN
METHOD:PUBLISH
X-WR-CALNAME:The Anatolia Gazette
X-ORIGINAL-URL:http://www.theanatoliagazette.com
X-WR-CALDESC:Events for The Anatolia Gazette
BEGIN:VTIMEZONE
TZID:"Europe/Moscow"
BEGIN:STANDARD
TZOFFSETFROM:+0300
TZOFFSETTO:+0300
TZNAME:MSK
DTSTART:20160101T000000
END:STANDARD
END:VTIMEZONE
BEGIN:VEVENT
DTSTART;VALUE=DATE:20161118
DTEND;VALUE=DATE:20161121
DTSTAMP:20260422T093131
CREATED:20161107T124459Z
LAST-MODIFIED:20161109T125320Z
UID:894-1479427200-1479686399@www.theanatoliagazette.com
SUMMARY:3ημερο GreenHouse Eπιχειρηματικότητας στην Κοζάνη από το VentureGarden
DESCRIPTION:\nTo GreenHouse είναι ένα δωρεάν εντατικό εκπαιδευτικό τριήμερο που βοηθά τους συμμετέχοντες να έρθουν πιο κοντά στην επιχειρηματική σκέψη και δράση! Ξεκινάμε Παρασκευή απόγευμα και μέχρι την Κυριακή δουλεύουμε πάνω στις επιχειρηματικές σας ιδέες. Βοηθάμε ως «θερμοκήπιο» ιδεών να τις μεγαλώσετε με ασφάλεια. Το επόμενο GreenHouse θα γίνει στην Κοζάνη 18-20 Νοεμβρίου 2016 σε συνεργασία με το Πανεπιστήμιο Δυτικής Μακεδονίας και με την υποστήριξη του Δήμου Κοζάνης και του Επιμελητηρίου Κοζάνης. \nΤο τριήμερο θα πραγματοποιηθεί στην «Αίθουσα Συνεδριάσεων» του ξενοδοχείου «Αλιάκμων» (Ελ.Βενιζέλου 38).\n\n\nΟ σκοπός του GreenHouse\, ως «θερμοκηπίου ιδεών»\, είναι να εξοικειώσει τους συμμετέχοντες με την επιχειρηματική σκέψη και δράση\, να τους ενθαρρύνει να αναπτύξουν τις ιδέες τους\, και να προσφέρει χρήσιμα εργαλεία στα πρώτα τους επιχειρηματικά βήματα. Κατά τη διάρκεια του τριημέρου η κάθε ιδέα θα εξεταστεί σε βάθος και θα ετοιμαστεί μία τελική παρουσίαση (pitch). \n\n\nΟι συμμετέχοντες με τις καλύτερες ιδέες θα μπορούν να παρακολουθήσουν το ολοκληρωμένο εκπαιδευτικό πρόγραμμα του VentureGarden.\nΤο VentureGarden είναι ένα εκπαιδευτικό πρόγραμμα υποστήριξης για νέους και επίδοξους επιχειρηματίες\, οι οποίοι θέλουν να λάβουν την απαραίτητη εκπαίδευση έτσι ώστε να κάνουν την ιδέα τους πραγματικότητα ή να δουν την ήδη υπάρχουσα επιχείρησή τους να αναπτύσσεται. Έχει δημιουργηθεί απόδύο κορυφαία business schools της Ελλάδας\, το ALBA Graduate Business School at The American College of Greece στην Αθήνα και το Anatolia School of Business at the American College of Thessaloniki στη Θεσσαλονίκη. Πραγματοποιείται με την υποστήριξη της Ελληνικής Πρωτοβουλίας (The Hellenic Initiative). \nΑπό την δουλειά μας με περισσότερες από 250 επιχειρηματικές ιδέες σε Αθήνα και Θεσσαλονίκη\, η ομάδα του VentureGarden φέρνει μαζί της διαφορετικές γνώσεις και εμπειρίες. Παράλληλα\, στο GreenHouse συμμετέχουν και επιχειρηματίες για να μοιραστούν την δική τους οπτική και να βοηθήσουν στην πράξη. \nΣτο GreenHouse και το VentureGarden συμμετέχουν επιχειρηματίες κάθε ηλικίας με ιδέες από όλο το φάσμα της οικονομικής δραστηριότητας. \nΕλάτε με τους φίλους ή και μόνοι σας στο GreenHouse για να δουλέψετε την επιχειρηματική σας ιδέα. Αλλά αν δεν έχετε ακόμα ιδέα και απλά σας ενδιαφέρει η επιχειρηματικότητα\, δεν πειράζει! Ελάτε και μπείτε σε μια ομάδα να βοηθήσετε με τις γνώσεις σας και να μάθετε από τους άλλους. \nΛόγω περιορισμένου αριθμού θέσεων\, αυτές δίνονται με σειρά προτεραιότητας. Αν συμμετέχετε σαν ομάδα\, θα πρέπει το κάθε μέλος που επιθυμεί να συμμετέχει να κάνει αίτηση.  \nΣυμπληρώστε εδώ την αίτηση συμμετοχής \nΑιτήσεις γίνονται δεκτές μέχρι 13/11/2016 \n\n
URL:http://www.theanatoliagazette.com/event/greenhouse-kozani-venturegarden/
ATTACH;FMTTYPE=image/jpeg:http://www.theanatoliagazette.com/wp-content/uploads/2016/11/logo_venture_470X245.jpg
END:VEVENT
END:VCALENDAR