BEGIN:VCALENDAR
VERSION:2.0
PRODID:-//The Anatolia Gazette - ECPv4.9.5//NONSGML v1.0//EN
CALSCALE:GREGORIAN
METHOD:PUBLISH
X-WR-CALNAME:The Anatolia Gazette
X-ORIGINAL-URL:http://www.theanatoliagazette.com
X-WR-CALDESC:Events for The Anatolia Gazette
BEGIN:VTIMEZONE
TZID:"Europe/Moscow"
BEGIN:STANDARD
TZOFFSETFROM:+0300
TZOFFSETTO:+0300
TZNAME:MSK
DTSTART:20160101T000000
END:STANDARD
END:VTIMEZONE
BEGIN:VEVENT
DTSTART;TZID="Europe/Moscow":20161127T113000
DTEND;TZID="Europe/Moscow":20161127T133000
DTSTAMP:20260420T103652
CREATED:20161109T130834Z
LAST-MODIFIED:20161109T131002Z
UID:901-1480246200-1480253400@www.theanatoliagazette.com
SUMMARY:Γνωρίστε το Νηπιαγωγείο του Anatolia Elementary School
DESCRIPTION:Το Κολλέγιο Ανατόλια διοργανώνει την Κυριακή 27 Νοεμβρίου στις 11:30 π.μ.\, Ημέρα Γνωριμίας με το Νηπιαγωγείο του. Η εκδήλωση θα πραγματοποιηθεί στη βιβλιοθήκη Ελευθεριάδης (πλευρά Γυμνασίων Κολλεγίου Ανατόλια) ενόψει της έναρξης των εγγραφών στα τμήματα των προνηπίων και νηπίων\, και απευθύνεται σε όσους επιθυμούν να ενημερωθούν για τη φιλοσοφία και το εκπαιδευτικό πρόγραμμα του Anatolia Elementary School. \nΜετά την ενημέρωση θα ακολουθήσει σύντομη ξενάγηση στο campus του Κολλεγίου Ανατόλια η οποία θα ολοκληρωθεί με επίσκεψη στο κτίριο του Νηπιαγωγείου. Κατά τη διάρκεια της ενημέρωσης\,  το διδακτικό προσωπικό του Κολλεγίου θα απασχολήσει τα παιδιά με δημιουργικές δράσεις στη νέα πτέρυγα του Νηπιαγωγείου “Willard Annex”. \nΓια περισσότερες πληροφορίες μπορείτε να επικοινωνήσετε στο 2310398260 (Δευτέρα – Παρασκευή 09:00 – 16:00) \n \n \n
URL:http://www.theanatoliagazette.com/event/info-session-aes/
ATTACH;FMTTYPE=image/jpeg:http://www.theanatoliagazette.com/wp-content/uploads/2016/11/2016-anatolia-in-800x537.jpg
END:VEVENT
END:VCALENDAR