BEGIN:VCALENDAR
VERSION:2.0
PRODID:-//The Anatolia Gazette - ECPv4.9.5//NONSGML v1.0//EN
CALSCALE:GREGORIAN
METHOD:PUBLISH
X-WR-CALNAME:The Anatolia Gazette
X-ORIGINAL-URL:http://www.theanatoliagazette.com
X-WR-CALDESC:Events for The Anatolia Gazette
BEGIN:VTIMEZONE
TZID:"Europe/Moscow"
BEGIN:STANDARD
TZOFFSETFROM:+0300
TZOFFSETTO:+0300
TZNAME:MSK
DTSTART:20160101T000000
END:STANDARD
END:VTIMEZONE
BEGIN:VEVENT
DTSTART;TZID="Europe/Moscow":20161214T183000
DTEND;TZID="Europe/Moscow":20161214T193000
DTSTAMP:20260420T093742
CREATED:20161129T114845Z
LAST-MODIFIED:20161129T115010Z
UID:994-1481740200-1481743800@www.theanatoliagazette.com
SUMMARY:3η Ενημερωτική Συνάντηση για τις εισαγωγικές εξετάσεις & το διευρυμένο Πρόγραμμα Υποτροφιών
DESCRIPTION:3η Συνάντηση Τετάρτη 14 Δεκεμβρίου 2016\, 18:30 μ.μ Θεατράκι της ΧΑΝΘ \nΟ μη κερδοσκοπικός εκπαιδευτικός οργανισμός Κολλέγιο Ανατόλια οργανώνει ενημερωτικές συναντήσεις για μαθητές της ΣΤ  Δημοτικού\, γονείς και εκπαιδευτικούς. Οι συναντήσεις αφορούν μαθητές που ολοκληρώνουν την ΣΤ’ τάξη του Δημοτικού την άνοιξη του 2017 και επιθυμούν να εγγραφούν στην Α΄ Γυμνασίου στο Κολλέγιο Ανατόλια. Η ενημέρωση καλύπτει τρία θέματα: \n\nτο πρόγραμμα σπουδών στο Κολλέγιο Ανατόλια\nτην επιλογή μαθητών μέσω εξετάσεων που θα διεξαχθούν τον Μάιο του 2017\nτο διευρυμένο πρόγραμμα υποτροφιών\n\n Οι μαθητές και οι γονείς τους θα έχουν επίσης τη δυνατότητα να ξεναγηθούν στο campus του Κολλεγίου Ανατόλια. \nΟι ημερομηνίες των ερχόμενων ενημερωτικών συναντήσεων για το 2016-17 είναι οι ακόλουθες: \nΤετάρτη 14 Δεκεμβρίου 2016\, 18:30 μ.μ Θεατράκι της ΧΑΝΘ \nΣάββατο 14 Ιανουαρίου 2017\, 11:00 π.μ.  (Tracy Hall) \nΣάββατο 11 Φεβρουαρίου 2017\, 11:00 π.μ. (Βιβλιοθήκη Ελευθεριάδης) \nΣάββατο 11 Μαρτίου 2017\, 11:00 π.μ. (Tracy Hall) \nΦέτος για πρώτη χρονιά μαθητές της ΣΤ΄ Δημοτικού από όλη την Ελλάδα θα έχουν την ευκαιρία να διεκδικήσουν υποτροφίες διδάκτρων και τροφείων με διαμονή στο Οικοτροφείο του Κολλεγίου Ανατόλια. \nΟι εισαγωγικές εξετάσεις θα διεξαχθούν στις 13 Μαΐου 2017 στις εγκαταστάσεις του Κολλεγίου Ανατόλια (Τζων Κέννεντυ 60\, Πυλαία\, Θεσσαλονίκη). Οι υποτροφίες χορηγούνται έπειτα από γραπτή δοκιμασία σε γνώσεις Ελληνικών και Μαθηματικών της Ε΄ και ΣΤ΄ Δημοτικού και Αγγλικών. Η δοκιμασία είναι κοινή για όλους τους μαθητές είτε εξαρτούν τη φοίτησή τους στο Κολλέγιο Ανατόλια από κάποια υποτροφία είτε όχι. \nΜπορείτε να δηλώσετε συμμετοχή ηλεκτρονικά στο www.anatolia.edu.gr/infosession \nΓια περισσότερες πληροφορίες: www.anatolia.edu.gr/entrance \nΓραφείο Εισαγωγής Μαθητών και Υποτροφιών Κολλεγίου Ανατόλια\, τηλ. 2310 398 203\, enroll@anatolia.edu.gr (Κορίνα Θεοδωρίδου) \n
URL:http://www.theanatoliagazette.com/event/info-session-dec-2016/
LOCATION:Θεατράκι της ΧΑΝΘ\, Thessaloniki
ATTACH;FMTTYPE=image/jpeg:http://www.theanatoliagazette.com/wp-content/uploads/2016/11/info_session_2016-2017.jpg
END:VEVENT
END:VCALENDAR