BEGIN:VCALENDAR
VERSION:2.0
PRODID:-//The Anatolia Gazette - ECPv4.9.5//NONSGML v1.0//EN
CALSCALE:GREGORIAN
METHOD:PUBLISH
X-WR-CALNAME:The Anatolia Gazette
X-ORIGINAL-URL:http://www.theanatoliagazette.com
X-WR-CALDESC:Events for The Anatolia Gazette
BEGIN:VTIMEZONE
TZID:"Europe/Moscow"
BEGIN:STANDARD
TZOFFSETFROM:+0300
TZOFFSETTO:+0300
TZNAME:MSK
DTSTART:20160101T000000
END:STANDARD
END:VTIMEZONE
BEGIN:VEVENT
DTSTART;TZID="Europe/Moscow":20161216T190000
DTEND;TZID="Europe/Moscow":20161216T200000
DTSTAMP:20260420T085041
CREATED:20161130T141806Z
LAST-MODIFIED:20161130T151616Z
UID:1036-1481914800-1481918400@www.theanatoliagazette.com
SUMMARY:Αλέξανδρος Μασσαβέτας | Μικρά Ασία: Το παλίμψηστο της μνήμης (16/12/2016)
DESCRIPTION: \n\nΠαρασκευή 16 Δεκεμβρίου 2016\, 7 μ.μ.\nΒιβλιοπωλείο Κωνσταντινίδη (Μητροπόλεως 92)\n\nΤο Δίκτυο Ναυαρίνο\, οι Εκδόσεις ΠΑΤΑΚΗ και το Βιβλιοπωλείο Κωνσταντινίδη σας προσκαλούν στην παρουσίαση του βιβλίου ΜΙΚΡΑ ΑΣΙΑ: ΤΟ ΠΑΛΙΜΨΗΣΤΟ ΤΗΣ ΜΝΗΜΗΣ του Αλέξανδρου Μασσαβέτα. \nΓια το βιβλίο θα συνομιλήσει με τον συγγραφέα ο Λέων Α. Ναρ\, Μεταδιδακτορικός ερευνητής στο Πανεπιστήμιο Μακεδονίας & Συγγραφέας. \nΜετά την βραβευμένη Πόλη των Απόντων\, ο Αλέξανδρος Μασσαβέτας αφήνει την Κωνσταντινούπολη για μια σειρά διαδρομών στην ιστορία και στο παρόν της Μικράς Ασίας. Το βιβλίο αυτό καλύπτει την νότια ακτή της Προποντίδας και τα παράλια του Αιγαίου. Φιλοδοξεί να αποτελέσει τον πρώτο τόμο μιας τριλογίας που θα επεκταθεί σε ολόκληρη την σπαρμένη από μνήμες Μικρά Ασία.\nΟ συγγραφέας ξεκινά την περιπλάνησή του από την Βιθυνία και την Μυσία\, εστιάζοντας στις μνήμες και στα χνάρια της Ρωμανίας και ανασταίνοντας το χαμένο εθνοτικό ψηφιδωτό της περιοχής. Συνεχίζει στην Αιολίδα\, εστιάζοντας στο Αϊβαλί και στην Πέργαμο. Στην τσιμεντένια Σμύρνη καταγράφει την ζώσα ιστορία μέσα από τις μαρτυρίες των τελευταίων Λεβαντίνων και Εβραίων της πόλης\, αλλά και τις τελευταίες ηλικιωμένες φωνές της σμυρναίικης διαλέκτου. Κατηφορίζοντας τα παράλια του Αιγαίου\, ο Μασσαβέτας διασχίζει την Ιωνία\, καταλήγοντας στα ερειπωμένα μοναστήρια της λίμνης Μπάφα και του Λάτμου\, του γρανιτένιου όρους με τα απόκοσμα τοπία. Η κατόπτευση του χώρου δίνει αφορμή για μία ανασκαφή της μνήμης περισσότερων πολιτισμών και εποχών\, σε μέρη όπου το παρελθόν βαραίνει πολλές φορές ασφυκτικά. Εδώ η ιστορία μοιάζει με δυσανάγνωστο παλίμψηστο\, όπου ο κάθε κατακτητής προσπάθησε να θάψει την μνήμη των προκατόχων του επιβάλλοντας την δική του αφήγηση. Η αναμόχλευση της ιστορίας εμπλουτίζεται με τις προσωπικές μνήμες των συνταξιδιωτών του συγγραφέα\, όπως του Ακύλα Μήλλα και του Κώστα Σταματόπουλου\, αλλά και τις διηγήσεις των πολλών προσώπων που συναντούν καθ’ οδόν. Από τις σελίδες του βιβλίου διαχέονται οι τελευταίες αχτίδες ενός κόσμου απειλούμενου από την λήθη και –ακόμη περισσότερο– την τερατώδη επέλαση του μπετόν. \nΜε την υποστήριξη του Κολλεγίου Ανατόλια. \nΠληροφορίες\nΔίκτυο Ναυαρίνο: 2310260322\, info@navarinonetwork.org\nΒιβλιοπωλείο Κωνσταντινίδη: 2310256173 \n  \n
URL:http://www.theanatoliagazette.com/event/massavetas-event/
LOCATION:Βιβλιοπωλείο Κωνσταντινίδη\, Μητροπόλεως 92
ATTACH;FMTTYPE=image/jpeg:http://www.theanatoliagazette.com/wp-content/uploads/2016/11/alexandros-massavetas-567x330.jpg
END:VEVENT
END:VCALENDAR