BEGIN:VCALENDAR
VERSION:2.0
PRODID:-//The Anatolia Gazette - ECPv4.9.5//NONSGML v1.0//EN
CALSCALE:GREGORIAN
METHOD:PUBLISH
X-WR-CALNAME:The Anatolia Gazette
X-ORIGINAL-URL:http://www.theanatoliagazette.com
X-WR-CALDESC:Events for The Anatolia Gazette
BEGIN:VTIMEZONE
TZID:"Europe/Moscow"
BEGIN:STANDARD
TZOFFSETFROM:+0300
TZOFFSETTO:+0300
TZNAME:MSK
DTSTART:20160101T000000
END:STANDARD
END:VTIMEZONE
BEGIN:VEVENT
DTSTART;TZID="Europe/Moscow":20161216T220000
DTEND;TZID="Europe/Moscow":20161217T060000
DTSTAMP:20260420T070449
CREATED:20161205T083133Z
LAST-MODIFIED:20161207T071833Z
UID:1051-1481925600-1481954400@www.theanatoliagazette.com
SUMMARY:Σ.Α.Α.Κ. ΑΝΑΤΟΛΙΑ - PRE-CHRISTMAS PARTY 2016
DESCRIPTION: \n
URL:http://www.theanatoliagazette.com/event/saak-pre-christmas-party-2016/
LOCATION:Shark\, Αργοναυτών 2\, Θεσσαλονίκη\, 551 31
END:VEVENT
END:VCALENDAR