BEGIN:VCALENDAR
VERSION:2.0
PRODID:-//The Anatolia Gazette - ECPv4.9.5//NONSGML v1.0//EN
CALSCALE:GREGORIAN
METHOD:PUBLISH
X-WR-CALNAME:The Anatolia Gazette
X-ORIGINAL-URL:http://www.theanatoliagazette.com
X-WR-CALDESC:Events for The Anatolia Gazette
BEGIN:VTIMEZONE
TZID:"Europe/Moscow"
BEGIN:STANDARD
TZOFFSETFROM:+0300
TZOFFSETTO:+0300
TZNAME:MSK
DTSTART:20160101T000000
END:STANDARD
END:VTIMEZONE
BEGIN:VEVENT
DTSTART;TZID="Europe/Moscow":20161202T210000
DTEND;TZID="Europe/Moscow":20161202T230000
DTSTAMP:20260420T100519
CREATED:20161115T113439Z
LAST-MODIFIED:20161129T114447Z
UID:983-1480712400-1480719600@www.theanatoliagazette.com
SUMMARY:SAKA Thanksgiving Dinner 2016
DESCRIPTION: \n
URL:http://www.theanatoliagazette.com/event/saka-thanksgiving-dinner-2016/
LOCATION:Athens\, Greece
ATTACH;FMTTYPE=image/jpeg:http://www.theanatoliagazette.com/wp-content/uploads/2016/11/save-the-date-athens-thanksgiving-2016-222.jpg
END:VEVENT
END:VCALENDAR