BEGIN:VCALENDAR
VERSION:2.0
PRODID:-//The Anatolia Gazette - ECPv4.9.5//NONSGML v1.0//EN
CALSCALE:GREGORIAN
METHOD:PUBLISH
X-WR-CALNAME:The Anatolia Gazette
X-ORIGINAL-URL:http://www.theanatoliagazette.com
X-WR-CALDESC:Events for The Anatolia Gazette
BEGIN:VTIMEZONE
TZID:"Europe/Moscow"
BEGIN:STANDARD
TZOFFSETFROM:+0300
TZOFFSETTO:+0300
TZNAME:MSK
DTSTART:20160101T000000
END:STANDARD
END:VTIMEZONE
BEGIN:VEVENT
DTSTART;TZID="Europe/Moscow":20161130T183000
DTEND;TZID="Europe/Moscow":20161130T213000
DTSTAMP:20260420T072244
CREATED:20161122T111543Z
LAST-MODIFIED:20161129T112121Z
UID:968-1480530600-1480541400@www.theanatoliagazette.com
SUMMARY:Χριστουγεννιάτικο Τσάι ΣΑΑΚ στο Morley House
DESCRIPTION:Τετάρτη 30 Νοεμβρίου\, ώρα 18:30 \nΑγαπημένος θεσμός των αποφοίτων του Κολλεγίου Ανατόλια\, το ‘Χριστουγεννιάτικο Τσάι’ ξεκίνησε πριν από 19 χρόνια\, με την πρωτοβουλία της ομάδας δράσης του Συλλόγου. Κάθε χρόνο\, απόφοιτες και φίλες του Ανατόλια ετοιμάζουν ένα χριστουγεννιάτικο  μπουφέ με σπιτικά εδέσματα φτιαγμένα από τις ίδιες. Σας καλούμε να μοιραστείτε μαζί μας τη γιορτινή ατμόσφαιρα του Morley House  και να εμπλουτίσετε το φετινό μπουφέ με τις αγαπημένες σας χριστουγεννιάτικες σπεσιαλιτέ. Σε αυτό το χριστουγεννιάτικο κάλεσμα θα είστε εσείς οικοδεσπότες και καλεσμένοι! \nΣας περιμένουμε! \n*Είσοδος 5\,00€ – Τα έσοδα της εκδήλωσης θα διατεθούν για φιλανθρωπικούς σκοπούς. \nΠληροφορίες: \nΓραφείο Σ.Α.Α.Κ. Ανατόλια\nΛεωφ. Τζ. Κέννεντυ 60 | 555 35 Θεσ/νίκη \nΤηλ: 2310 238835\, Fax: 2310 287845\nmailto:saak@saak.gr   www.saak.gr \n
URL:http://www.theanatoliagazette.com/event/xmas-tea-saak/
LOCATION:Morley House @ Anatolia College
ATTACH;FMTTYPE=image/jpeg:http://www.theanatoliagazette.com/wp-content/uploads/2016/11/image001.jpg
END:VEVENT
END:VCALENDAR